Package: SpatialCPie Version: 1.24.0 Command: /Library/Frameworks/R.framework/Resources/bin/R CMD build --keep-empty-dirs --no-resave-data SpatialCPie StartedAt: 2025-10-14 10:01:52 -0400 (Tue, 14 Oct 2025) EndedAt: 2025-10-14 10:02:55 -0400 (Tue, 14 Oct 2025) EllapsedTime: 62.5 seconds RetCode: 0 Status: OK PackageFile: SpatialCPie_1.24.0.tar.gz PackageFileSize: 1.559 MiB