Package: SpatialCPie Version: 1.24.0 Command: rm -rf SpatialCPie.buildbin-libdir && mkdir SpatialCPie.buildbin-libdir && /Users/biocbuild/BBS/utils/build-universal.sh SpatialCPie_1.24.0.tar.gz /Library/Frameworks/R.framework/Resources/bin/R SpatialCPie.buildbin-libdir StartedAt: 2025-10-15 20:38:29 -0400 (Wed, 15 Oct 2025) EndedAt: 2025-10-15 20:39:03 -0400 (Wed, 15 Oct 2025) EllapsedTime: 34.1 seconds RetCode: 0 Status: OK PackageFile: SpatialCPie_1.24.0.tgz PackageFileSize: 1.641 MiB