Package: SparseSignatures Version: 2.20.0 Command: /home/biocbuild/R/R/bin/R CMD INSTALL SparseSignatures StartedAt: 2025-11-10 21:36:22 -0000 (Mon, 10 Nov 2025) EndedAt: 2025-11-10 21:37:15 -0000 (Mon, 10 Nov 2025) EllapsedTime: 52.8 seconds RetCode: 0 Status: OK