Package: SparseSignatures Version: 2.20.0 Command: /home/biocbuild/R/R/bin/R CMD build --keep-empty-dirs --no-resave-data SparseSignatures StartedAt: 2025-11-11 05:22:49 -0000 (Tue, 11 Nov 2025) EndedAt: 2025-11-11 05:28:47 -0000 (Tue, 11 Nov 2025) EllapsedTime: 358.2 seconds RetCode: 0 Status: OK PackageFile: SparseSignatures_2.20.0.tar.gz PackageFileSize: 1.511 MiB