Package: SparseSignatures Version: 2.18.0 Command: E:\biocbuild\bbs-3.21-bioc\R\bin\R.exe CMD INSTALL SparseSignatures StartedAt: 2025-08-14 16:34:28 -0400 (Thu, 14 Aug 2025) EndedAt: 2025-08-14 16:35:27 -0400 (Thu, 14 Aug 2025) EllapsedTime: 59.4 seconds RetCode: 0 Status: OK