Package: SparseSignatures Version: 2.18.0 Command: chmod a+r SparseSignatures -R && E:\biocbuild\bbs-3.21-bioc\R\bin\R.exe CMD build --keep-empty-dirs --no-resave-data SparseSignatures StartedAt: 2025-08-14 22:23:28 -0400 (Thu, 14 Aug 2025) EndedAt: 2025-08-14 22:27:52 -0400 (Thu, 14 Aug 2025) EllapsedTime: 264.1 seconds RetCode: 0 Status: OK PackageFile: SparseSignatures_2.18.0.tar.gz PackageFileSize: 1.375 MiB