Package: SparseSignatures Version: 2.20.0 Command: /home/biocbuild/bbs-3.22-bioc/R/bin/R CMD check --install=check:SparseSignatures.install-out.txt --library=/home/biocbuild/bbs-3.22-bioc/R/site-library --timings SparseSignatures_2.20.0.tar.gz StartedAt: 2025-11-12 04:24:38 -0500 (Wed, 12 Nov 2025) EndedAt: 2025-11-12 04:36:12 -0500 (Wed, 12 Nov 2025) EllapsedTime: 693.6 seconds RetCode: 0 Status: OK CheckDir: SparseSignatures.Rcheck Warnings: 0