Package: SparseSignatures Version: 2.18.0 Command: /Library/Frameworks/R.framework/Resources/bin/R CMD build --keep-empty-dirs --no-resave-data SparseSignatures StartedAt: 2025-09-25 22:51:12 -0400 (Thu, 25 Sep 2025) EndedAt: 2025-09-25 23:01:22 -0400 (Thu, 25 Sep 2025) EllapsedTime: 609.6 seconds RetCode: 0 Status: OK PackageFile: SparseSignatures_2.18.0.tar.gz PackageFileSize: 1.462 MiB