Package: SparseSignatures Version: 2.18.0 Command: /home/biocbuild/R/R/bin/R CMD INSTALL SparseSignatures StartedAt: 2025-09-25 20:43:13 -0000 (Thu, 25 Sep 2025) EndedAt: 2025-09-25 20:44:07 -0000 (Thu, 25 Sep 2025) EllapsedTime: 54.2 seconds RetCode: 0 Status: OK