Package: SparseSignatures Version: 2.18.0 Command: /home/biocbuild/R/R/bin/R CMD check --install=check:SparseSignatures.install-out.txt --library=/home/biocbuild/R/R/site-library --no-vignettes --timings SparseSignatures_2.18.0.tar.gz StartedAt: 2025-10-14 14:36:01 -0000 (Tue, 14 Oct 2025) EndedAt: 2025-10-14 14:50:03 -0000 (Tue, 14 Oct 2025) EllapsedTime: 842.0 seconds RetCode: 0 Status: OK CheckDir: SparseSignatures.Rcheck Warnings: 0