Package: SparseSignatures Version: 2.20.0 Command: /Library/Frameworks/R.framework/Resources/bin/R CMD check --install=check:SparseSignatures.install-out.txt --library=/Library/Frameworks/R.framework/Resources/library --no-vignettes --timings SparseSignatures_2.20.0.tar.gz StartedAt: 2025-10-30 22:13:07 -0400 (Thu, 30 Oct 2025) EndedAt: 2025-10-30 22:18:22 -0400 (Thu, 30 Oct 2025) EllapsedTime: 314.7 seconds RetCode: 0 Status: OK CheckDir: SparseSignatures.Rcheck Warnings: 0