Package: SparseSignatures Version: 2.18.0 Command: /Library/Frameworks/R.framework/Resources/bin/R CMD build --keep-empty-dirs --no-resave-data SparseSignatures StartedAt: 2025-04-21 17:44:07 -0400 (Mon, 21 Apr 2025) EndedAt: 2025-04-21 17:45:50 -0400 (Mon, 21 Apr 2025) EllapsedTime: 102.2 seconds RetCode: 0 Status: OK PackageFile: SparseSignatures_2.18.0.tar.gz PackageFileSize: 1.462 MiB