Package: SparseArray Version: 1.10.1 Command: /home/biocbuild/R/R/bin/R CMD INSTALL SparseArray StartedAt: 2025-11-10 21:20:44 -0000 (Mon, 10 Nov 2025) EndedAt: 2025-11-10 21:21:38 -0000 (Mon, 10 Nov 2025) EllapsedTime: 54.0 seconds RetCode: 0 Status: OK