Package: SparseArray Version: 1.10.1 Command: /home/biocbuild/R/R/bin/R CMD check --install=check:SparseArray.install-out.txt --library=/home/biocbuild/R/R/site-library --no-vignettes --timings SparseArray_1.10.1.tar.gz StartedAt: 2025-11-11 15:07:55 -0000 (Tue, 11 Nov 2025) EndedAt: 2025-11-11 15:14:20 -0000 (Tue, 11 Nov 2025) EllapsedTime: 384.5 seconds RetCode: 0 Status: OK CheckDir: SparseArray.Rcheck Warnings: 0