Package: SparseArray Version: 1.10.1 Command: /home/biocbuild/R/R/bin/R CMD build --keep-empty-dirs --no-resave-data SparseArray StartedAt: 2025-11-11 05:22:39 -0000 (Tue, 11 Nov 2025) EndedAt: 2025-11-11 05:23:58 -0000 (Tue, 11 Nov 2025) EllapsedTime: 79.0 seconds RetCode: 0 Status: OK PackageFile: SparseArray_1.10.1.tar.gz PackageFileSize: 485.6 KiB