Package: SparseArray Version: 1.10.1 Command: /home/biocbuild/bbs-3.22-bioc/R/bin/R CMD check --install=check:SparseArray.install-out.txt --library=/home/biocbuild/bbs-3.22-bioc/R/site-library --timings SparseArray_1.10.1.tar.gz StartedAt: 2025-11-12 04:23:55 -0500 (Wed, 12 Nov 2025) EndedAt: 2025-11-12 04:28:37 -0500 (Wed, 12 Nov 2025) EllapsedTime: 281.2 seconds RetCode: 0 Status: OK CheckDir: SparseArray.Rcheck Warnings: 0