Package: SparseArray Version: 1.10.1 Command: /home/biocbuild/bbs-3.22-bioc/R/bin/R CMD build --keep-empty-dirs --no-resave-data --md5 SparseArray StartedAt: 2025-11-13 20:19:28 -0500 (Thu, 13 Nov 2025) EndedAt: 2025-11-13 20:20:24 -0500 (Thu, 13 Nov 2025) EllapsedTime: 56.0 seconds RetCode: 0 Status: OK PackageFile: SparseArray_1.10.1.tar.gz PackageFileSize: 465.2 KiB