Package: SparseArray Version: 1.8.1 Command: /Library/Frameworks/R.framework/Resources/bin/R CMD check --install=check:SparseArray.install-out.txt --library=/Library/Frameworks/R.framework/Resources/library --no-vignettes --timings SparseArray_1.8.1.tar.gz StartedAt: 2025-10-03 10:35:16 -0400 (Fri, 03 Oct 2025) EndedAt: 2025-10-03 10:43:47 -0400 (Fri, 03 Oct 2025) EllapsedTime: 511.4 seconds RetCode: 0 Status: OK CheckDir: SparseArray.Rcheck Warnings: 0