Package: Spaniel Version: 1.24.0 Command: /Library/Frameworks/R.framework/Resources/bin/R CMD INSTALL Spaniel StartedAt: 2025-11-03 15:54:28 -0500 (Mon, 03 Nov 2025) EndedAt: 2025-11-03 15:55:25 -0500 (Mon, 03 Nov 2025) EllapsedTime: 57.5 seconds RetCode: 0 Status: OK