Package: Spaniel Version: 1.24.0 Command: /Library/Frameworks/R.framework/Resources/bin/R CMD build --keep-empty-dirs --no-resave-data Spaniel StartedAt: 2025-11-03 18:52:47 -0500 (Mon, 03 Nov 2025) EndedAt: 2025-11-03 18:55:59 -0500 (Mon, 03 Nov 2025) EllapsedTime: 191.8 seconds RetCode: 0 Status: OK PackageFile: Spaniel_1.24.0.tar.gz PackageFileSize: 4.461 MiB