Package: Spaniel Version: 1.22.0 Command: /home/biocbuild/R/R/bin/R CMD INSTALL Spaniel StartedAt: 2025-10-09 21:16:07 -0000 (Thu, 09 Oct 2025) EndedAt: 2025-10-09 21:17:07 -0000 (Thu, 09 Oct 2025) EllapsedTime: 60.3 seconds RetCode: 0 Status: OK