Package: Spaniel Version: 1.22.0 Command: /home/biocbuild/R/R/bin/R CMD build --keep-empty-dirs --no-resave-data Spaniel StartedAt: 2025-10-07 04:48:00 -0000 (Tue, 07 Oct 2025) EndedAt: 2025-10-07 04:54:53 -0000 (Tue, 07 Oct 2025) EllapsedTime: 413.1 seconds RetCode: 0 Status: OK PackageFile: Spaniel_1.22.0.tar.gz PackageFileSize: 3.889 MiB