Package: SpaceTrooper Version: 1.0.0 Command: /home/biocbuild/bbs-3.22-bioc/R/bin/R CMD build --keep-empty-dirs --no-resave-data --md5 SpaceTrooper StartedAt: 2025-11-11 20:20:08 -0500 (Tue, 11 Nov 2025) EndedAt: 2025-11-11 20:21:44 -0500 (Tue, 11 Nov 2025) EllapsedTime: 96.1 seconds RetCode: 0 Status: OK PackageFile: SpaceTrooper_1.0.0.tar.gz PackageFileSize: 4.503 MiB