Package: SpaceTrooper Version: 1.0.0 Command: /Library/Frameworks/R.framework/Resources/bin/R CMD INSTALL SpaceTrooper StartedAt: 2025-11-10 15:29:06 -0500 (Mon, 10 Nov 2025) EndedAt: 2025-11-10 15:29:22 -0500 (Mon, 10 Nov 2025) EllapsedTime: 16.4 seconds RetCode: 0 Status: OK