Package: SpaceTrooper Version: 1.0.0 Command: /Library/Frameworks/R.framework/Resources/bin/R CMD build --keep-empty-dirs --no-resave-data SpaceTrooper StartedAt: 2025-11-10 17:49:19 -0500 (Mon, 10 Nov 2025) EndedAt: 2025-11-10 17:50:00 -0500 (Mon, 10 Nov 2025) EllapsedTime: 40.4 seconds RetCode: 0 Status: OK PackageFile: SpaceTrooper_1.0.0.tar.gz PackageFileSize: 6.25 MiB