Package: SpaceTrooper Version: 1.0.0 Command: rm -rf SpaceTrooper.buildbin-libdir && mkdir SpaceTrooper.buildbin-libdir && /Users/biocbuild/BBS/utils/build-universal.sh SpaceTrooper_1.0.0.tar.gz /Library/Frameworks/R.framework/Resources/bin/R SpaceTrooper.buildbin-libdir StartedAt: 2025-11-10 23:37:44 -0500 (Mon, 10 Nov 2025) EndedAt: 2025-11-10 23:38:02 -0500 (Mon, 10 Nov 2025) EllapsedTime: 18.4 seconds RetCode: 0 Status: OK PackageFile: SpaceTrooper_1.0.0.tgz PackageFileSize: 6.449 MiB