Package: SpaceMarkers Version: 2.0.0 Command: /home/biocbuild/bbs-3.22-bioc/R/bin/R CMD build --keep-empty-dirs --no-resave-data --md5 SpaceMarkers StartedAt: 2025-11-11 20:20:08 -0500 (Tue, 11 Nov 2025) EndedAt: 2025-11-11 20:29:43 -0500 (Tue, 11 Nov 2025) EllapsedTime: 575.4 seconds RetCode: 0 Status: OK PackageFile: SpaceMarkers_2.0.0.tar.gz PackageFileSize: 3.084 MiB