Package: SpaceMarkers Version: 2.0.0 Command: /Library/Frameworks/R.framework/Resources/bin/R CMD INSTALL SpaceMarkers StartedAt: 2025-11-10 15:06:21 -0500 (Mon, 10 Nov 2025) EndedAt: 2025-11-10 15:06:29 -0500 (Mon, 10 Nov 2025) EllapsedTime: 8.7 seconds RetCode: 0 Status: OK