Package: SpaceMarkers Version: 2.0.0 Command: /Library/Frameworks/R.framework/Resources/bin/R CMD build --keep-empty-dirs --no-resave-data SpaceMarkers StartedAt: 2025-11-10 17:49:15 -0500 (Mon, 10 Nov 2025) EndedAt: 2025-11-10 17:53:52 -0500 (Mon, 10 Nov 2025) EllapsedTime: 277.0 seconds RetCode: 0 Status: OK PackageFile: SpaceMarkers_2.0.0.tar.gz PackageFileSize: 3.238 MiB