Package: SpaceMarkers Version: 2.0.0 Command: rm -rf SpaceMarkers.buildbin-libdir && mkdir SpaceMarkers.buildbin-libdir && /Users/biocbuild/BBS/utils/build-universal.sh SpaceMarkers_2.0.0.tar.gz /Library/Frameworks/R.framework/Resources/bin/R SpaceMarkers.buildbin-libdir StartedAt: 2025-11-10 23:37:43 -0500 (Mon, 10 Nov 2025) EndedAt: 2025-11-10 23:37:50 -0500 (Mon, 10 Nov 2025) EllapsedTime: 7.2 seconds RetCode: 0 Status: OK PackageFile: SpaceMarkers_2.0.0.tgz PackageFileSize: 3.308 MiB