Package: SpaNorm Version: 1.2.0 Command: /home/biocbuild/R/R/bin/R CMD INSTALL SpaNorm StartedAt: 2025-10-13 21:15:12 -0000 (Mon, 13 Oct 2025) EndedAt: 2025-10-13 21:15:21 -0000 (Mon, 13 Oct 2025) EllapsedTime: 9.0 seconds RetCode: 0 Status: OK