Package: SpaNorm Version: 1.2.0 Command: /home/biocbuild/R/R/bin/R CMD build --keep-empty-dirs --no-resave-data SpaNorm StartedAt: 2025-10-14 04:53:49 -0000 (Tue, 14 Oct 2025) EndedAt: 2025-10-14 05:16:56 -0000 (Tue, 14 Oct 2025) EllapsedTime: 1386.7 seconds RetCode: 0 Status: OK PackageFile: SpaNorm_1.2.0.tar.gz PackageFileSize: 7.444 MiB