Package: SpaNorm Version: 1.2.0 Command: /Library/Frameworks/R.framework/Resources/bin/R CMD build --keep-empty-dirs --no-resave-data SpaNorm StartedAt: 2025-04-21 17:43:30 -0400 (Mon, 21 Apr 2025) EndedAt: 2025-04-21 17:46:04 -0400 (Mon, 21 Apr 2025) EllapsedTime: 153.7 seconds RetCode: 0 Status: OK PackageFile: SpaNorm_1.2.0.tar.gz PackageFileSize: 7.477 MiB