Package: SomaticSignatures Version: 2.44.0 Command: /home/biocbuild/bbs-3.21-bioc/R/bin/R CMD INSTALL SomaticSignatures StartedAt: 2025-10-01 15:48:58 -0400 (Wed, 01 Oct 2025) EndedAt: 2025-10-01 15:49:55 -0400 (Wed, 01 Oct 2025) EllapsedTime: 57.0 seconds RetCode: 0 Status: OK