Package: SomaticSignatures Version: 2.44.0 Command: /home/biocbuild/bbs-3.21-bioc/R/bin/R CMD build --keep-empty-dirs --no-resave-data SomaticSignatures StartedAt: 2025-09-28 20:12:24 -0400 (Sun, 28 Sep 2025) EndedAt: 2025-09-28 20:15:08 -0400 (Sun, 28 Sep 2025) EllapsedTime: 163.1 seconds RetCode: 0 Status: OK PackageFile: SomaticSignatures_2.44.0.tar.gz PackageFileSize: 2.182 MiB