Package: SomaticSignatures Version: 2.44.0 Command: /Library/Frameworks/R.framework/Resources/bin/R CMD build --keep-empty-dirs --no-resave-data SomaticSignatures StartedAt: 2025-10-13 22:48:49 -0400 (Mon, 13 Oct 2025) EndedAt: 2025-10-13 22:54:16 -0400 (Mon, 13 Oct 2025) EllapsedTime: 327.3 seconds RetCode: 0 Status: OK PackageFile: SomaticSignatures_2.44.0.tar.gz PackageFileSize: 2.819 MiB