Package: SomaticSignatures Version: 2.44.0 Command: rm -rf SomaticSignatures.buildbin-libdir && mkdir SomaticSignatures.buildbin-libdir && /Users/biocbuild/BBS/utils/build-universal.sh SomaticSignatures_2.44.0.tar.gz /Library/Frameworks/R.framework/Resources/bin/R SomaticSignatures.buildbin-libdir StartedAt: 2025-04-22 01:10:26 -0400 (Tue, 22 Apr 2025) EndedAt: 2025-04-22 01:11:45 -0400 (Tue, 22 Apr 2025) EllapsedTime: 78.8 seconds RetCode: 0 Status: OK PackageFile: SomaticSignatures_2.44.0.tgz PackageFileSize: 3.51 MiB