Package: SomaticSignatures Version: 2.44.0 Command: /Library/Frameworks/R.framework/Resources/bin/R CMD INSTALL SomaticSignatures StartedAt: 2025-09-29 17:38:16 -0400 (Mon, 29 Sep 2025) EndedAt: 2025-09-29 17:39:26 -0400 (Mon, 29 Sep 2025) EllapsedTime: 69.6 seconds RetCode: 0 Status: OK