Package: SomaticSignatures Version: 2.44.0 Command: /Library/Frameworks/R.framework/Resources/bin/R CMD build --keep-empty-dirs --no-resave-data SomaticSignatures StartedAt: 2025-09-30 09:46:13 -0400 (Tue, 30 Sep 2025) EndedAt: 2025-09-30 09:49:52 -0400 (Tue, 30 Sep 2025) EllapsedTime: 219.2 seconds RetCode: 0 Status: OK PackageFile: SomaticSignatures_2.44.0.tar.gz PackageFileSize: 2.818 MiB