Package: SomaticSignatures Version: 2.44.0 Command: rm -rf SomaticSignatures.buildbin-libdir && mkdir SomaticSignatures.buildbin-libdir && /Users/biocbuild/BBS/utils/build-universal.sh SomaticSignatures_2.44.0.tar.gz /Library/Frameworks/R.framework/Resources/bin/R SomaticSignatures.buildbin-libdir StartedAt: 2025-10-01 20:36:14 -0400 (Wed, 01 Oct 2025) EndedAt: 2025-10-01 20:37:31 -0400 (Wed, 01 Oct 2025) EllapsedTime: 77.1 seconds RetCode: 0 Status: OK PackageFile: SomaticSignatures_2.44.0.tgz PackageFileSize: 3.511 MiB