Package: SmartPhos Version: 1.0.0 Command: /home/biocbuild/R/R/bin/R CMD INSTALL SmartPhos StartedAt: 2025-11-13 21:44:31 -0000 (Thu, 13 Nov 2025) EndedAt: 2025-11-13 21:45:14 -0000 (Thu, 13 Nov 2025) EllapsedTime: 42.6 seconds RetCode: 0 Status: OK