Package: SmartPhos Version: 1.0.0 Command: /home/biocbuild/R/R/bin/R CMD build --keep-empty-dirs --no-resave-data SmartPhos StartedAt: 2025-11-14 05:29:19 -0000 (Fri, 14 Nov 2025) EndedAt: 2025-11-14 05:32:03 -0000 (Fri, 14 Nov 2025) EllapsedTime: 163.2 seconds RetCode: 0 Status: OK PackageFile: SmartPhos_1.0.0.tar.gz PackageFileSize: 19.55 MiB