Package: SmartPhos Version: 1.0.0 Command: /home/biocbuild/bbs-3.22-bioc/R/bin/R CMD INSTALL SmartPhos StartedAt: 2025-11-04 15:35:45 -0500 (Tue, 04 Nov 2025) EndedAt: 2025-11-04 15:36:16 -0500 (Tue, 04 Nov 2025) EllapsedTime: 31.5 seconds RetCode: 0 Status: OK