Package: SmartPhos Version: 1.0.0 Command: /Library/Frameworks/R.framework/Resources/bin/R CMD INSTALL SmartPhos StartedAt: 2025-11-24 16:13:23 -0500 (Mon, 24 Nov 2025) EndedAt: 2025-11-24 16:14:41 -0500 (Mon, 24 Nov 2025) EllapsedTime: 78.6 seconds RetCode: 0 Status: OK