Package: SmartPhos Version: 1.0.0 Command: /Library/Frameworks/R.framework/Resources/bin/R CMD build --keep-empty-dirs --no-resave-data SmartPhos StartedAt: 2025-11-24 23:16:15 -0500 (Mon, 24 Nov 2025) EndedAt: 2025-11-24 23:20:33 -0500 (Mon, 24 Nov 2025) EllapsedTime: 258.2 seconds RetCode: 0 Status: OK PackageFile: SmartPhos_1.0.0.tar.gz PackageFileSize: 20.22 MiB