Package: SmartPhos Version: 1.0.0 Command: rm -rf SmartPhos.buildbin-libdir && mkdir SmartPhos.buildbin-libdir && /Users/biocbuild/BBS/utils/build-universal.sh SmartPhos_1.0.0.tar.gz /Library/Frameworks/R.framework/Resources/bin/R SmartPhos.buildbin-libdir StartedAt: 2025-11-25 15:20:17 -0500 (Tue, 25 Nov 2025) EndedAt: 2025-11-25 15:21:36 -0500 (Tue, 25 Nov 2025) EllapsedTime: 79.7 seconds RetCode: 0 Status: OK PackageFile: SmartPhos_1.0.0.tgz PackageFileSize: 13.38 MiB