Package: SmartPhos Version: 1.0.0 Command: rm -rf SmartPhos.buildbin-libdir && mkdir SmartPhos.buildbin-libdir && /Users/biocbuild/BBS/utils/build-universal.sh SmartPhos_1.0.0.tar.gz /Library/Frameworks/R.framework/Resources/bin/R SmartPhos.buildbin-libdir StartedAt: 2025-11-03 23:22:28 -0500 (Mon, 03 Nov 2025) EndedAt: 2025-11-03 23:22:44 -0500 (Mon, 03 Nov 2025) EllapsedTime: 16.3 seconds RetCode: 0 Status: OK PackageFile: SmartPhos_1.0.0.tgz PackageFileSize: 13.38 MiB