Package: SmartPhos Version: 1.0.0 Command: /Library/Frameworks/R.framework/Resources/bin/R CMD INSTALL SmartPhos StartedAt: 2025-11-24 17:15:48 -0500 (Mon, 24 Nov 2025) EndedAt: 2025-11-24 17:16:26 -0500 (Mon, 24 Nov 2025) EllapsedTime: 37.9 seconds RetCode: 0 Status: OK