Package: SmartPhos Version: 1.0.0 Command: /Library/Frameworks/R.framework/Resources/bin/R CMD build --keep-empty-dirs --no-resave-data SmartPhos StartedAt: 2025-11-21 10:30:18 -0500 (Fri, 21 Nov 2025) EndedAt: 2025-11-21 10:33:04 -0500 (Fri, 21 Nov 2025) EllapsedTime: 165.9 seconds RetCode: 0 Status: OK PackageFile: SmartPhos_1.0.0.tar.gz PackageFileSize: 20.23 MiB