Package: SmartPhos Version: 1.0.0 Command: rm -rf SmartPhos.buildbin-libdir && mkdir SmartPhos.buildbin-libdir && /Users/biocbuild/BBS/utils/build-universal.sh SmartPhos_1.0.0.tar.gz /Library/Frameworks/R.framework/Resources/bin/R SmartPhos.buildbin-libdir StartedAt: 2025-11-23 11:35:26 -0500 (Sun, 23 Nov 2025) EndedAt: 2025-11-23 11:36:31 -0500 (Sun, 23 Nov 2025) EllapsedTime: 64.7 seconds RetCode: 0 Status: OK PackageFile: SmartPhos_1.0.0.tgz PackageFileSize: 13.38 MiB